Workbook

Sheet Arkusz1
C2: Załącznik nr 1 do specyfikacji / Załącznik nr 1 do Umowy
B4: A1 | C4: OPCJA nr 1 CENA PODSTAWOWA | D4: cena netto
C5: Urządzenie Reachstacker 45 ton w I rzędzie oraz do 27 ton przy odległości 6,2m od krawędzi nawierzchni do osi drugiego toru terminalowego, wg specyfikacji przedmiotu przetargu
B7: B1 | C7: OPCJA nr 1 WYPOSAŻENIE DODATKOWE | D7: suma pozycji od 1 do 30
C8: Należy dokonać wyszczególnienia kosztów, o ile nie występują w standardzie (w cenie podstawowej) [w kolumnie cena netto wpisać: standard lub podać cenę]
C9: wyszczegónienie | D9: cena danej pozycji netto
B10: 1 | C10: demontowany spreader do przeładunku nadwozi wymiennych i naczep (piggy-back), ELME 953
B11: 2 | C11: - dodatkowe miejsce siedzące w kabinie,
B12: 3 | C12: - podkładka do pisania z lampką,
B13: 4 | C13: - osłona przeciwsłoneczna na przedniej szybie,
B14: 5 | C14: - osłona przeciwsłoneczna na oknie dachowym,
B15: 6 | C15: - elektroniczny układ przeciążenia, układ ważenia,
B16: 7 | C16: - licznik kontenerów z funkcją zerowania,
B17: 8 | C17: - dodatkowe oświetlenie robocze, 2 szt, 70 W, mocowane na wysięgniku,
B18: 9 | C18: - dodatkowe oświetlenie robocze, 2 szt, 70 W, mocowane na chwytniku,
B19: 10 | C19: - dodatkowe oświetlenie robocze, 4 szt, 70 W, mocowane na błotnikach,
B20: 11 | C20: - zamykany na klucz wlew paliwa,
B21: 12 | C21: - grzałka silnika,
... B41: 32 | C41: inne
B44: C1 | C44: koszty dojazdu serwisu do KUTNA
B46: D1 | C46: koszty 1 roboczogodziny pracy serwisanta
B49: E1 | C49: koszty serwisowania | D49: koszt materiałów / części | E49: koszt robocizny
C50: SUMA kosztów serwisowania OGÓŁEM do 6.000 mth [suma kosztów wykazanych poniżej w pozycjach jednostkowych]
C51: Koszty wg przepracowanych mth urządzenia
C52: przedział mth od 0 do ……
C53: przedział mth od …. do ……
C54: przedział mth od …. do ……
C55: przedział mth od …. do ……
C56: przedział mth od …. do ……
C57: przedział mth od …. do ……
C58: przedział mth od …. do ……
C59: przedział mth od …. do ……
C60: przedział mth od …. do ……
C61: przedział mth od …. do ……
... C101: SUMA kosztów serwisowania OGÓŁEM od 0 mth do 10.000 mth [suma kosztów wykazanych powyżej w pozycjach jednostkowych]
D106: wariant bez podpór | E106: wariant z podporami
B107: A2 | C107: OPCJA nr 2 CENA PODSTAWOWA | D107: cena netto | E107: cena netto
C108: Urządzenie Reachstacker 45 ton w I rzędzie oraz do 30 ton przy odległości 6,2m od krawędzi nawierzchni do osi drugiego toru terminalowego wyposażenie wg specyfikacji
B110: B2 | C110: OPCJA nr 1 WYPOSAŻENIE DODATKOWE | D110: suma pozycji od 1 do 30
C111: Należy dokonać wyszczególnienia kosztów, o ile nie występują w standardzie (w cenie podstawowej) [w kolumnie cena netto wpisać: standard lub podać cenę]
...

Sheet Arkusz1 (2)
B2: Załącznik nr 10 do specyfikacji
B4: Formularz oferty finalnej | D4: ceny w EUR netto
B8: Cr | C8: Cena 1 szt urządzenia przeładunkowego reachstacker
B10: Cd | C10: Cena dojazdu serwisu do terminala kontenerowego
B12: Cp | C12: Cena 1 roboczogodziny pracy serwisanta
B14: Cs | C14: Cena serwisowania w okresie gwarancji | D14: koszt materiałów / części [a] | E14: koszt robocizny [b] | F14: zryczałtowany koszt dojazdu [c] | G14: RAZEM [a]+[b]+[c]
B15: L.p. | C15: SUMA serwisowania OGÓŁEM aż do zakończenia okresu gwarancji [suma kosztów wykazanych poniżej w pozycjach jednostkowych]
B16: 1. | C16: przedział mth od 0 do ……...........… | D16: 500
B17: 2. | C17: przedział mth od ……........... do …….............… | D17: 1000
B18: 3. | C18: przedział mth od ……........... do …….............… | D18: 1500
C19: przedział mth od ……........... do …….............… | D19: 2000
C20: przedział mth od ……........... do …….............… | D20: 2500
C21: przedział mth od ……........... do …….............… | D21: 3000
C22: przedział mth od ……........... do …….............… | D22: 3500
C23: przedział mth od ……........... do …….............… | D23: 4000
C24: przedział mth od ……........... do …….............… | D24: 4500
C25: przedział mth od ……........... do …….............… | D25: 5000
C26: przedział mth od ……........... do …….............… | D26: 5500
C27: przedział mth od ……........... do …….............… | D27: 6000
C28: przedział mth od ……........... do …….............… | D28: 6500
C29: przedział mth od ……........... do …….............… | D29: 7000
C30: przedział mth od ……........... do …….............… | D30: 7500
... C35: przedział mth od ……........... do …….............… | D35: 10000
C36: przedział mth od …. do zakończenia okresu gwarancji

Sheet 1.Wzór W
F1: strona 1/8
B2: Załącznik nr 3 do Specyfikacji
B4: Zamawiający udostępnia niniejszy plik Excel oraz wymaga, aby został on wypełniony w wersji elektronicznej w sposób czytelny, a następnie zapisany do pliku PDF, podpisany oraz przesłany zgodnie z warunkami Specyfikacji. Oferent wypełnia wyłącznie białe pola, w przypadku wpisywania cen należy podać wartość netto w zaokrągleniu zgodnie z regułami matematycznymi do drugiego miejsca po przecinku.
B6: FORMULARZ CENOWY / do aukcji / PO AUKCJI *
D9: Wartość W
B10: W = 0,5*6Cr + 0,2*6Cs +6Cp*01*2000+2*Cd1*0,1*100+4*Cd2*0,1*100 | D10: =IFERROR(E13*D13+(E19*D19+E25*D25*F25*6+E27*D27*F27*2+D28*E28*F28*4),"") -> 0
D12: (kwoty zaciągnięte z tabeli w arkuszu Cr_ceny_dostawy_urządzeń) | E12: wagi | F12: współczynniki
B13: 6Cr | C13: Łączna cena 6 szt. urządzeń (EUR) | D13: =D14*2+D15*2+D16*2 -> 0 | E13: 0.5
C14: Cena dostawy pojedynczego urządzenia typu reachstacker 45t z przeznaczeniem do Gliwic i Kutna (EUR) | D14: ='2.Cr_Ceny_dostawy_urządzeń'!D6 -> 0
C15: Cena dostawy pojedynczego urządzenia typu reachstacker 45t z przeznaczeniem do Ropczyc (EUR) | D15: ='2.Cr_Ceny_dostawy_urządzeń'!D8 -> 0
C16: Cena dostawy pojedynczego urządzenia typu empty handler 10t (EUR) | D16: ='2.Cr_Ceny_dostawy_urządzeń'!D10 -> 0
D18: (kwoty zaciągniete z tabel w arkuszach: Cs_RS45T_GL_KT; Cs_RS45T_Rop; Cs_RS_EH_10T)
B19: 6Cs | C19: Łączna cena serwisu zaoferowana dla 6 szt. urządzeń w okresie gwarancji (EUR) | D19: =D20*2+D21*2+D22*2 -> 0 | E19: 0.2
C20: Cena serwisu pojedynczego urządzenia typu reachstacker 45t w okresie gwarancji z przeznaczeniem do Gliwic i Kutna (EUR) | D20: ='3.Cs_RS45T_GL-KT'!G4 -> 0
C21: Cena serwisu pojedynczego urządzenia typu reachstacker 45t w okresie gwarancji z przeznaczeniem do Ropczyc (EUR) | D21: ='4.Cs_RS45T_Rop'!G4 -> 0
C22: Cena serwisu pojedynczego urządzenia typu empty handler 10t w okresie gwarancji z przeznaczeniem do Ropczyc (EUR) | D22: ='5.Cs_RS_EH_10T'!G4 -> 0
F24: szacowana teoretyczna ilość RBH***
B25: Cp** | C25: Cena ryczałtowa za 1 roboczogodzinę (RBH) pracy serwisanta (EUR) | E25: 0.1 | F25: 2000
F26: szacowana teoretyczna ilość dojazdów***
B27: Cd1 | C27: Cena ryczałtowa za 1 dojazd serwisu do Kutna lub do Gliwic (EUR) | E27: 0.1 | F27: 100
B28: Cd2 | C28: Cena ryczałtowa za 1 dojazd serwisu do Ropczyc (EUR) | E28: 0.1 | F28: 100
C29: * niepotrzene skreślić ** cena dotyczy roboczogodziny jednego serwisanta
C30: ***współczynnik zastosowano tylko i wyłącznie w celu podniesienia wagi cen Cp i Cd w formule wskaźnika "W"
C32: Oferent oświadcza, że przedmiotem oferty są następujące modele urządzeń wraz z przewidywanymi okresami produkcji oraz dostępności części:
D33: nazwa modelu
C34: Model urządzenia typu reachstacker 45t
D35: data od | E35: data do
C36: Przewidywany okres produkcji modelu urządzenia typu reachstacker 45t
D37: data od | E37: data do
C38: Przewidywany okres dostępności części do urządzenia typu reachstacker 45t
D40: nazwa modelu
C41: Model urządzenia typu empty handler 10t
D42: data od | E42: data do
C43: Przewidywany okres produkcji modelu urządzenia typu empty handler 10t
D44: data od | E44: data do
C45: Przewidywany okres dostępności części do urządzenia typu empty handler 10t
E48: ….............................................................................
E49: podpis

Sheet 2.Cr_Ceny_dostawy_urządzeń
F1: strona 2/8
C4: Tabela "Cena dostawy urządzeń wraz z cenami opcji [EUR]"
B5: L.p. | D5: [A] cena dostawy pojedynczego urządzenia [liczona do "W"] | E5: [B] opcja: cena za osprzęt i wyposażenie urządzenia pod kątem zastosowania przystawki ELME 953 dla pojedynczego urządzenia | F5: [C] opcja: cena za system monitorowania ciśnienia w oponach dla pojedynczego urządzenia
B6: 1. | C6: Cena dla pojedynczego urządzenia typu reachstacker 45t z przeznaczeniem do Gliwic (EUR)
B7: 2. | C7: Cena dla pojedynczego urządzenia typu reachstacker 45t z przeznaczeniem do Kutna (EUR)
B8: 3. | C8: Cena dla pierwszego urządzenia typu reachstacker 45t z przeznaczeniem do Ropczyc (EUR)
B9: 4. | C9: Cena dla drugiego urządzenia typu reachstacker 45t z przeznaczeniem do Ropczyc (EUR)
B10: 5. | C10: Cena dla pierwszego urządzenia typu empty handler 10t (EUR)
B11: 6. | C11: Cena dla drugiego urządzenia typu empty handler 10t (EUR)
E15: ….............................................................................
E16: podpis

Sheet 3.Cs_RS45T_GL-KT
C2: Tabela: Cena serwisu jednego urządzenia RS45t w Gliwicach lub Kutnie w okresie gwarancji w [EUR] | H2: strona 3/8
B3: Cs | D3: materiały / części [a] | E3: robocizna [b] | F3: zryczałtowany dojazd [c] | G3: RAZEM [a]+[b]+[c] | H3: Kompletny zakres czynności dla danego poziomu przeglądu w okresie obowiązywania gwarancji (nie mniej niż 6 tys. mth)
B4: L.p. | C4: SUMA za okres obowiązywania gwarancji [suma kosztów wykazanych poniżej w pozycjach jednostkowych] | D4: =SUM(D5:D20) -> 0 | E4: =SUM(E5:E20) -> 0 | F4: =SUM(F5:F20) -> 0 | G4: =SUM(G5:G20) -> 0
B5: 1. | C5: przedział mth od 0 do ……….......... | G5: =SUM(D5:F5) -> 0
B6: 2. | C6: przedział mth od ……….......... do ……….......... | G6: =SUM(D6:F6) -> 0
B7: 3. | C7: przedział mth od ……….......... do ……….......... | G7: =SUM(D7:F7) -> 0
B8: 4. | C8: przedział mth od ……….......... do ……….......... | G8: =SUM(D8:F8) -> 0
B9: 5. | C9: przedział mth od ……….......... do ……….......... | G9: =SUM(D9:F9) -> 0
B10: 6. | C10: przedział mth od ……….......... do ……….......... | G10: =SUM(D10:F10) -> 0
H11: ..............................................................................
H12: podpis
H13: strona 4/8
C14: przedział mth od ……….......... do ……….......... | G14: =SUM(D14:F14) -> 0
C15: przedział mth od ……….......... do ……….......... | G15: =SUM(D15:F15) -> 0
C16: przedział mth od ……….......... do ……….......... | G16: =SUM(D16:F16) -> 0
C17: przedział mth od ……….......... do ……….......... | G17: =SUM(D17:F17) -> 0
C18: przedział mth od ……….......... do ……….......... | G18: =SUM(D18:F18) -> 0
C19: przedział mth od ……….......... do ……….......... | G19: =SUM(D19:F19) -> 0
C20: przedział mth od ……….......... do zakończenia okresu gwarancji | G20: =SUM(D20:F20) -> 0
H27: ..............................................................................
H28: podpis

Sheet 4.Cs_RS45T_Rop
C2: Tabela: Cena serwisu jednego urządzenia RS45t w Ropczycach okresie gwarancji w [EUR] | H2: strona 5/8
B3: Cs | D3: materiały / części [a] | E3: robocizna [b] | F3: zryczałtowany dojazd [c] | G3: RAZEM [a]+[b]+[c] | H3: Kompletny zakres czynności dla danego poziomu przeglądu w okresie obowiązywania gwarancji (nie mniej niż 6 tys. mth)
B4: L.p. | C4: SUMA za okres obowiązywania gwarancji [suma kosztów wykazanych poniżej w pozycjach jednostkowych] | D4: =SUM(D5:D20) -> 0 | E4: =SUM(E5:E20) -> 0 | F4: =SUM(F5:F20) -> 0 | G4: =SUM(G5:G20) -> 0
B5: 1. | C5: przedział mth od 0 do ……….......... | G5: =SUM(D5:F5) -> 0
B6: 2. | C6: przedział mth od ……….......... do ……….......... | G6: =SUM(D6:F6) -> 0
B7: 3. | C7: przedział mth od ……….......... do ……….......... | G7: =SUM(D7:F7) -> 0
B8: 4. | C8: przedział mth od ……….......... do ……….......... | G8: =SUM(D8:F8) -> 0
B9: 5. | C9: przedział mth od ……….......... do ……….......... | G9: =SUM(D9:F9) -> 0
B10: 6. | C10: przedział mth od ……….......... do ……….......... | G10: =SUM(D10:F10) -> 0
H11: ..............................................................................
H12: podpis
H13: strona 6/8
C14: przedział mth od ……….......... do ……….......... | G14: =SUM(D14:F14) -> 0
C15: przedział mth od ……….......... do ……….......... | G15: =SUM(D15:F15) -> 0
C16: przedział mth od ……….......... do ……….......... | G16: =SUM(D16:F16) -> 0
C17: przedział mth od ……….......... do ……….......... | G17: =SUM(D17:F17) -> 0
C18: przedział mth od ……….......... do ……….......... | G18: =SUM(D18:F18) -> 0
C19: przedział mth od ……….......... do ……….......... | G19: =SUM(D19:F19) -> 0
C20: przedział mth od ……….......... do zakończenia okresu gwarancji | G20: =SUM(D20:F20) -> 0
H27: ..............................................................................
H28: podpis

Sheet 5.Cs_RS_EH_10T
C2: Tabela: Cena serwisu jednego urządzenia RS10t w okresie gwarancji w [EUR] | H2: strona 7/8
B3: Cs | D3: materiały / części [a] | E3: robocizna [b] | F3: zryczałtowany dojazd [c] | G3: RAZEM [a]+[b]+[c] | H3: Kompletny zakres czynności dla danego poziomu przeglądu w okresie obowiązywania gwarancji (nie mniej niż 6 tys. mth)
B4: L.p. | C4: SUMA za okres obowiązywania gwarancji [suma kosztów wykazanych poniżej w pozycjach jednostkowych] | D4: =SUM(D5:D20) -> 0 | E4: =SUM(E5:E20) -> 0 | F4: =SUM(F5:F20) -> 0 | G4: =SUM(G5:G20) -> 0
B5: 1. | C5: przedział mth od 0 do ……….......... | G5: =SUM(D5:F5) -> 0
B6: 2. | C6: przedział mth od ……….......... do ……….......... | G6: =SUM(D6:F6) -> 0
B7: 3. | C7: przedział mth od ……….......... do ……….......... | G7: =SUM(D7:F7) -> 0
B8: 4. | C8: przedział mth od ……….......... do ……….......... | G8: =SUM(D8:F8) -> 0
B9: 5. | C9: przedział mth od ……….......... do ……….......... | G9: =SUM(D9:F9) -> 0
B10: 6. | C10: przedział mth od ……….......... do ……….......... | G10: =SUM(D10:F10) -> 0
H11: ..............................................................................
H12: podpis
H13: strona 8/8
C14: przedział mth od ……….......... do ……….......... | G14: =SUM(D14:F14) -> 0
C15: przedział mth od ……….......... do ……….......... | G15: =SUM(D15:F15) -> 0
C16: przedział mth od ……….......... do ……….......... | G16: =SUM(D16:F16) -> 0
C17: przedział mth od ……….......... do ……….......... | G17: =SUM(D17:F17) -> 0
C18: przedział mth od ……….......... do ……….......... | G18: =SUM(D18:F18) -> 0
C19: przedział mth od ……….......... do ……….......... | G19: =SUM(D19:F19) -> 0
C20: przedział mth od ……….......... do zakończenia okresu gwarancji | G20: =SUM(D20:F20) -> 0
H27: ..............................................................................
H28: podpis

Sheet Serwis pogwarancyjny stare
B1: Tabela "Cena serwisu 1-go urządzenia w okresie od zakończenia gwarancji do 10 000 mth w [PLN]"*** | G1: strona 4/5
D2: materiały / części [a] | E2: robocizna [b] | F2: zryczałtowany dojazd [c] | G2: RAZEM [a]+[b]+[c]
B3: L.p. | C3: SUMA za okres od zakończenia okresu gwarancji do uzyskania przebiegu 10 000 mth [suma pozycji wykazanych poniżej w pozycjach jednostkowych] | D3: =SUM(D4:D19) -> 0 | E3: =SUM(E4:E19) -> 0 | F3: =SUM(F4:F19) -> 0 | G3: =SUM(G4:G19) -> 0
B4: 1. | C4: przedział mth od zakończenia okresu gwarancji do … | G4: =SUM(D4:F4) -> 0
B5: 2. | C5: przedział mth od ………..................... do ………................... | G5: =SUM(D5:F5) -> 0
B6: 3. | C6: przedział mth od ………..................... do ………................... | G6: =SUM(D6:F6) -> 0
C7: przedział mth od ………..................... do ………................... | G7: =SUM(D7:F7) -> 0
C8: przedział mth od ………..................... do ………................... | G8: =SUM(D8:F8) -> 0
C9: przedział mth od ………..................... do ………................... | G9: =SUM(D9:F9) -> 0
C10: przedział mth od ………..................... do ………................... | G10: =SUM(D10:F10) -> 0
C11: przedział mth od ………..................... do ………................... | G11: =SUM(D11:F11) -> 0
C12: przedział mth od ………..................... do ………................... | G12: =SUM(D12:F12) -> 0
C13: przedział mth od ………..................... do ………................... | G13: =SUM(D13:F13) -> 0
C14: przedział mth od ………..................... do ………................... | G14: =SUM(D14:F14) -> 0
C15: przedział mth od ………..................... do ………................... | G15: =SUM(D15:F15) -> 0
C16: przedział mth od ………..................... do ………................... | G16: =SUM(D16:F16) -> 0
C17: przedział mth od ………..................... do ………................... | G17: =SUM(D17:F17) -> 0
C18: przedział mth od ………..................... do ………................... | G18: =SUM(D18:F18) -> 0
C19: przedział mth od ………..................... do ………................... | G19: =SUM(D19:F19) -> 0
C20: *** Określenie ceny serwisu po okresie gwarancji pełni wyłącznie funkcję informacyjną, nie stanowi natomiast składnika wzoru "W"
